BEGIN:VCALENDAR
VERSION:2.0
PRODID:-//OWIT UK - ECPv6.15.20//NONSGML v1.0//EN
CALSCALE:GREGORIAN
METHOD:PUBLISH
X-WR-CALNAME:OWIT UK
X-ORIGINAL-URL:https://owituk.org
X-WR-CALDESC:Events for OWIT UK
REFRESH-INTERVAL;VALUE=DURATION:PT1H
X-Robots-Tag:noindex
X-PUBLISHED-TTL:PT1H
BEGIN:VTIMEZONE
TZID:UTC
BEGIN:STANDARD
TZOFFSETFROM:+0000
TZOFFSETTO:+0000
TZNAME:UTC
DTSTART:20240101T000000
END:STANDARD
END:VTIMEZONE
BEGIN:VEVENT
DTSTART;TZID=UTC:20250129T160000
DTEND;TZID=UTC:20250129T173000
DTSTAMP:20260421T234358
CREATED:20250115T181252Z
LAST-MODIFIED:20250124T110633Z
UID:3736-1738166400-1738171800@owituk.org
SUMMARY:Strengthening Trade Corridors: Exploring UK-Florida Investment Opportunities
DESCRIPTION:THE FUTURE OF GLOBAL TRADE\,                      THE RISING POWER OF WOMEN 				\n				\n				\n				\n																														\n				\n							\n						\n				\n									Global trade is evolving rapidly and women are playing an increasingly role in shaping its future. Join OWIT UK for a timely discussion exploring how leaders are influencing international trade\, driving innovation in trade technology\, and strengthening global economic participation. This event will feature insights from distinguished speakers Andrea Ewart\, DevelopTradeLaw LLC CEO and Board VP Trade Policy Committee\, and Grace Thompson\, UK Public Affairs Lead for the Chartered Institute of Export & International Trade\, who will share their perspectives on leadership\, opportunity\, and the evolving landscape of global trade. The webinar will be moderated by OWIT UK VP Elsie Etienne.  Thursday 30 April 2026 5:00 PM BST (UK)  								\n				\n				\n				\n									\n					\n						\n									Registration
URL:https://owituk.org/event/strengthening-trade-corridors-exploring-uk-florida-investment-opportunities
LOCATION:Zoom
CATEGORIES:OWIT UK
ATTACH;FMTTYPE=image/png:https://owituk.org/wp-content/uploads/2025/01/1.png
END:VEVENT
END:VCALENDAR