BEGIN:VCALENDAR
VERSION:2.0
PRODID:-//OWIT UK - ECPv6.15.20//NONSGML v1.0//EN
CALSCALE:GREGORIAN
METHOD:PUBLISH
X-WR-CALNAME:OWIT UK
X-ORIGINAL-URL:https://owituk.org
X-WR-CALDESC:Events for OWIT UK
REFRESH-INTERVAL;VALUE=DURATION:PT1H
X-Robots-Tag:noindex
X-PUBLISHED-TTL:PT1H
BEGIN:VTIMEZONE
TZID:UTC
BEGIN:STANDARD
TZOFFSETFROM:+0000
TZOFFSETTO:+0000
TZNAME:UTC
DTSTART:20240101T000000
END:STANDARD
END:VTIMEZONE
BEGIN:VTIMEZONE
TZID:Europe/Paris
BEGIN:DAYLIGHT
TZOFFSETFROM:+0100
TZOFFSETTO:+0200
TZNAME:CEST
DTSTART:20250330T010000
END:DAYLIGHT
BEGIN:STANDARD
TZOFFSETFROM:+0200
TZOFFSETTO:+0100
TZNAME:CET
DTSTART:20251026T010000
END:STANDARD
BEGIN:DAYLIGHT
TZOFFSETFROM:+0100
TZOFFSETTO:+0200
TZNAME:CEST
DTSTART:20260329T010000
END:DAYLIGHT
BEGIN:STANDARD
TZOFFSETFROM:+0200
TZOFFSETTO:+0100
TZNAME:CET
DTSTART:20261025T010000
END:STANDARD
BEGIN:DAYLIGHT
TZOFFSETFROM:+0100
TZOFFSETTO:+0200
TZNAME:CEST
DTSTART:20270328T010000
END:DAYLIGHT
BEGIN:STANDARD
TZOFFSETFROM:+0200
TZOFFSETTO:+0100
TZNAME:CET
DTSTART:20271031T010000
END:STANDARD
END:VTIMEZONE
BEGIN:VEVENT
DTSTART;TZID=UTC:20250606T130000
DTEND;TZID=UTC:20250606T143000
DTSTAMP:20260422T012707
CREATED:20250401T112050Z
LAST-MODIFIED:20250415T123547Z
UID:3807-1749214800-1749220200@owituk.org
SUMMARY:International Trade Corridor: UK – Zimbabwe
DESCRIPTION:THE FUTURE OF GLOBAL TRADE\,                      THE RISING POWER OF WOMEN 				\n				\n				\n				\n																														\n				\n							\n						\n				\n									Global trade is evolving rapidly and women are playing an increasingly role in shaping its future. Join OWIT UK for a timely discussion exploring how leaders are influencing international trade\, driving innovation in trade technology\, and strengthening global economic participation. This event will feature insights from distinguished speakers Andrea Ewart\, DevelopTradeLaw LLC CEO and Board VP Trade Policy Committee\, and Grace Thompson\, UK Public Affairs Lead for the Chartered Institute of Export & International Trade\, who will share their perspectives on leadership\, opportunity\, and the evolving landscape of global trade. The webinar will be moderated by OWIT UK VP Elsie Etienne.  Thursday 30 April 2026 5:00 PM BST (UK)  								\n				\n				\n				\n									\n					\n						\n									Registration
URL:https://owituk.org/event/international-trade-corridor-uk-zimbabwe
LOCATION:Zoom
CATEGORIES:OWIT UK,strategic partner
ATTACH;FMTTYPE=image/png:https://owituk.org/wp-content/uploads/2025/04/Copy-of-Strengthening-Trade-Corridors.zip-1.png
END:VEVENT
BEGIN:VEVENT
DTSTART;TZID=UTC:20250922T173000
DTEND;TZID=UTC:20250922T213000
DTSTAMP:20260422T012707
CREATED:20250907T185326Z
LAST-MODIFIED:20250908T075448Z
UID:3889-1758562200-1758576600@owituk.org
SUMMARY:OWIT UK SEPTEMBER TRADE SOCIAL
DESCRIPTION:THE FUTURE OF GLOBAL TRADE\,                      THE RISING POWER OF WOMEN 				\n				\n				\n				\n																														\n				\n				\n				\n									Global trade is evolving rapidly and women are playing an increasingly role in shaping its future. Join OWIT UK for a timely discussion exploring how leaders are influencing international trade\, driving innovation in trade technology\, and strengthening global economic participation. This event will feature insights from distinguished speakers Andrea Ewart\, DevelopTradeLaw LLC CEO and Board VP Trade Policy Committee\, and Grace Thompson\, UK Public Affairs Lead for the Chartered Institute of Export & International Trade\, who will share their perspectives on leadership\, opportunity\, and the evolving landscape of global trade. The webinar will be moderated by OWIT UK VP Elsie Etienne.  Thursday 30 April 2026 5:00 PM BST (UK)  								\n				\n				\n				\n									\n					\n						\n									Registration
URL:https://owituk.org/event/3889
LOCATION:IOD\, 116 Pall Mall\, London
CATEGORIES:OWIT UK
ATTACH;FMTTYPE=image/png:https://owituk.org/wp-content/uploads/2025/09/Blue-and-Orange-Modern-Meeting-Invitation.png
END:VEVENT
BEGIN:VEVENT
DTSTART;TZID=Europe/Paris:20260223T160000
DTEND;TZID=Europe/Paris:20260223T173000
DTSTAMP:20260422T012707
CREATED:20260210T174712Z
LAST-MODIFIED:20260210T182316Z
UID:3918-1771862400-1771867800@owituk.org
SUMMARY:OWIT UK Export Finance Masterclass & AGM - 23rd February 2026
DESCRIPTION:THE FUTURE OF GLOBAL TRADE\,                      THE RISING POWER OF WOMEN 				\n				\n				\n				\n																														\n				\n				\n				\n									Global trade is evolving rapidly and women are playing an increasingly role in shaping its future. Join OWIT UK for a timely discussion exploring how leaders are influencing international trade\, driving innovation in trade technology\, and strengthening global economic participation. This event will feature insights from distinguished speakers Andrea Ewart\, DevelopTradeLaw LLC CEO and Board VP Trade Policy Committee\, and Grace Thompson\, UK Public Affairs Lead for the Chartered Institute of Export & International Trade\, who will share their perspectives on leadership\, opportunity\, and the evolving landscape of global trade. The webinar will be moderated by OWIT UK VP Elsie Etienne.  Thursday 30 April 2026 5:00 PM BST (UK)  								\n				\n				\n				\n									\n					\n						\n									Registration
URL:https://owituk.org/event/owit-uk-export-finance-masterclass-agm-23rd-february-2026
LOCATION:OWIT UK ZOOM VIRTUAL EVENT\, United Kingdom
ATTACH;FMTTYPE=image/png:https://owituk.org/wp-content/uploads/2026/02/OWIT-UK-Export-Finance-MC-and-AGM.png
END:VEVENT
BEGIN:VEVENT
DTSTART;TZID=Europe/Paris:20260430T170000
DTEND;TZID=Europe/Paris:20260430T180000
DTSTAMP:20260422T012707
CREATED:20260311T212742Z
LAST-MODIFIED:20260409T103746Z
UID:4011-1777568400-1777572000@owituk.org
SUMMARY:The Future of Global Trade: The Rising Power of Women
DESCRIPTION:THE FUTURE OF GLOBAL TRADE\,                      THE RISING POWER OF WOMEN 				\n				\n				\n				\n																														\n				\n				\n				\n									Global trade is evolving rapidly and women are playing an increasingly role in shaping its future. Join OWIT UK for a timely discussion exploring how leaders are influencing international trade\, driving innovation in trade technology\, and strengthening global economic participation. This event will feature insights from distinguished speakers Andrea Ewart\, DevelopTradeLaw LLC CEO and Board VP Trade Policy Committee\, and Grace Thompson\, UK Public Affairs Lead for the Chartered Institute of Export & International Trade\, who will share their perspectives on leadership\, opportunity\, and the evolving landscape of global trade. The webinar will be moderated by OWIT UK VP Elsie Etienne.  Thursday 30 April 2026 5:00 PM BST (UK)  								\n				\n				\n				\n									\n					\n						\n									Registration
URL:https://owituk.org/event/the-future-of-global-trade-the-rising-power-of-women
LOCATION:Zoom
CATEGORIES:OWIT UK,strategic partner
ATTACH;FMTTYPE=image/png:https://owituk.org/wp-content/uploads/2026/03/OWIT-UK-Logo-Hold-Image.png
END:VEVENT
END:VCALENDAR