BEGIN:VCALENDAR
VERSION:2.0
PRODID:-//OWIT UK - ECPv6.15.20//NONSGML v1.0//EN
CALSCALE:GREGORIAN
METHOD:PUBLISH
X-WR-CALNAME:OWIT UK
X-ORIGINAL-URL:https://owituk.org
X-WR-CALDESC:Events for OWIT UK
REFRESH-INTERVAL;VALUE=DURATION:PT1H
X-Robots-Tag:noindex
X-PUBLISHED-TTL:PT1H
BEGIN:VTIMEZONE
TZID:UTC
BEGIN:STANDARD
TZOFFSETFROM:+0000
TZOFFSETTO:+0000
TZNAME:UTC
DTSTART:20200101T000000
END:STANDARD
END:VTIMEZONE
BEGIN:VTIMEZONE
TZID:Europe/London
BEGIN:DAYLIGHT
TZOFFSETFROM:+0000
TZOFFSETTO:+0100
TZNAME:BST
DTSTART:20200329T010000
END:DAYLIGHT
BEGIN:STANDARD
TZOFFSETFROM:+0100
TZOFFSETTO:+0000
TZNAME:GMT
DTSTART:20201025T010000
END:STANDARD
BEGIN:DAYLIGHT
TZOFFSETFROM:+0000
TZOFFSETTO:+0100
TZNAME:BST
DTSTART:20210328T010000
END:DAYLIGHT
BEGIN:STANDARD
TZOFFSETFROM:+0100
TZOFFSETTO:+0000
TZNAME:GMT
DTSTART:20211031T010000
END:STANDARD
BEGIN:DAYLIGHT
TZOFFSETFROM:+0000
TZOFFSETTO:+0100
TZNAME:BST
DTSTART:20220327T010000
END:DAYLIGHT
BEGIN:STANDARD
TZOFFSETFROM:+0100
TZOFFSETTO:+0000
TZNAME:GMT
DTSTART:20221030T010000
END:STANDARD
END:VTIMEZONE
BEGIN:VEVENT
DTSTART;TZID=UTC:20211130T140000
DTEND;TZID=UTC:20211130T150000
DTSTAMP:20260422T230216
CREATED:20211022T135042Z
LAST-MODIFIED:20211129T122445Z
UID:2215-1638280800-1638284400@owituk.org
SUMMARY:Reaching Customers Online in a Global Economy
DESCRIPTION:Collaborative action from women business leaders to make a positive impact and deliver our united vision of a more sustainable world economy About this eventOctober 20\, 2021 10.00 and 15.00 BST Click here for the 10.00 event: World Business Women’s Day 2022 (10.00 BST) Tickets\, Thu\, Oct 20\, 2022 at 10:00 AM | Eventbrite Click here for the 15.00 event: World Business Women’s Day 2022 (15.00 BST ) Tickets\, Thu\, Oct 20\, 2022 at 3:00 PM | Eventbrite World Business Women’s Day 2022 10.00 BSTWomen and TechnologyHow women in business can leverage technology to make the most of its opportunitiesFrom AI to the dark web and everything in between…tech leaders\, business owners\, and women from all sectors\, nations\, cultures\, and backgrounds\, take part in this dynamic global event to explore women and technologyFrontline females in business and industry\, action orientated achievers – not another talking shopHighlighting innovation and opportunity to widen female participation in technology and contribute to the global enterprise ecosystemSharing best practice from nation to nationExchanging proven ideas to create shortcuts to tangible outcomes by flexing strategies from one nation to the nextTaking action to build more sustainable women-led businessesContributing to the global Savvitas BarometerZoom room discussions chaired by international leadersStimulating Speed Keynotes from high-profile global speakersEstablishing an enduring dialogue between women of the worldOutcomes shared throughout industry and government@SavvitasGlobal #WBWDay Savvitas is delighted to connect on #WBWDay with friends from: All-Party Parliamentary Group for Inclusive Entrepreneurship – Catalyst for Women Entrepreneurs – G7 Gender Working Group – Global Entrepreneurship Week – GEN UK – NatWest – OWIT International – OWIT UK – WEConnect International – WishKnish – Women in Leadership – Women & Enterprise All-Party Parliamentary Group – Women Impacting Public Policy – W20 – Quantum Leaps
URL:https://owituk.org/event/reaching-customers-online-in-a-global-economy
LOCATION:OWIT UK ZOOM VIRTUAL EVENT\, United Kingdom
CATEGORIES:OWIT UK
ATTACH;FMTTYPE=image/png:https://owituk.org/wp-content/uploads/2021/10/OWIT-UK-EVENTS-Invitation1.png
END:VEVENT
BEGIN:VEVENT
DTSTART;TZID=UTC:20211115T080000
DTEND;TZID=UTC:20211119T170000
DTSTAMP:20260422T230216
CREATED:20211103T093315Z
LAST-MODIFIED:20211103T113826Z
UID:2224-1636963200-1637341200@owituk.org
SUMMARY:Notice to Members: UK DIT: International Trade Week: 15-19 November 2021
DESCRIPTION:Collaborative action from women business leaders to make a positive impact and deliver our united vision of a more sustainable world economy About this eventOctober 20\, 2021 10.00 and 15.00 BST Click here for the 10.00 event: World Business Women’s Day 2022 (10.00 BST) Tickets\, Thu\, Oct 20\, 2022 at 10:00 AM | Eventbrite Click here for the 15.00 event: World Business Women’s Day 2022 (15.00 BST ) Tickets\, Thu\, Oct 20\, 2022 at 3:00 PM | Eventbrite World Business Women’s Day 2022 10.00 BSTWomen and TechnologyHow women in business can leverage technology to make the most of its opportunitiesFrom AI to the dark web and everything in between…tech leaders\, business owners\, and women from all sectors\, nations\, cultures\, and backgrounds\, take part in this dynamic global event to explore women and technologyFrontline females in business and industry\, action orientated achievers – not another talking shopHighlighting innovation and opportunity to widen female participation in technology and contribute to the global enterprise ecosystemSharing best practice from nation to nationExchanging proven ideas to create shortcuts to tangible outcomes by flexing strategies from one nation to the nextTaking action to build more sustainable women-led businessesContributing to the global Savvitas BarometerZoom room discussions chaired by international leadersStimulating Speed Keynotes from high-profile global speakersEstablishing an enduring dialogue between women of the worldOutcomes shared throughout industry and government@SavvitasGlobal #WBWDay Savvitas is delighted to connect on #WBWDay with friends from: All-Party Parliamentary Group for Inclusive Entrepreneurship – Catalyst for Women Entrepreneurs – G7 Gender Working Group – Global Entrepreneurship Week – GEN UK – NatWest – OWIT International – OWIT UK – WEConnect International – WishKnish – Women in Leadership – Women & Enterprise All-Party Parliamentary Group – Women Impacting Public Policy – W20 – Quantum Leaps
URL:https://owituk.org/event/notice-to-members-uk-dit-international-trade-week-15-19-november-2021
CATEGORIES:UK DIT
ATTACH;FMTTYPE=image/png:https://owituk.org/wp-content/uploads/2021/11/Screenshot-2021-11-03-at-09-32-18-Events-by-day.png
END:VEVENT
BEGIN:VEVENT
DTSTART;TZID=UTC:20211110T130000
DTEND;TZID=UTC:20211110T140000
DTSTAMP:20260422T230216
CREATED:20211105T142900Z
LAST-MODIFIED:20211105T144757Z
UID:2236-1636549200-1636552800@owituk.org
SUMMARY:Partner Event: Savvitas WBW COP26 Green Paper Update & Actions
DESCRIPTION:Collaborative action from women business leaders to make a positive impact and deliver our united vision of a more sustainable world economy About this eventOctober 20\, 2021 10.00 and 15.00 BST Click here for the 10.00 event: World Business Women’s Day 2022 (10.00 BST) Tickets\, Thu\, Oct 20\, 2022 at 10:00 AM | Eventbrite Click here for the 15.00 event: World Business Women’s Day 2022 (15.00 BST ) Tickets\, Thu\, Oct 20\, 2022 at 3:00 PM | Eventbrite World Business Women’s Day 2022 10.00 BSTWomen and TechnologyHow women in business can leverage technology to make the most of its opportunitiesFrom AI to the dark web and everything in between…tech leaders\, business owners\, and women from all sectors\, nations\, cultures\, and backgrounds\, take part in this dynamic global event to explore women and technologyFrontline females in business and industry\, action orientated achievers – not another talking shopHighlighting innovation and opportunity to widen female participation in technology and contribute to the global enterprise ecosystemSharing best practice from nation to nationExchanging proven ideas to create shortcuts to tangible outcomes by flexing strategies from one nation to the nextTaking action to build more sustainable women-led businessesContributing to the global Savvitas BarometerZoom room discussions chaired by international leadersStimulating Speed Keynotes from high-profile global speakersEstablishing an enduring dialogue between women of the worldOutcomes shared throughout industry and government@SavvitasGlobal #WBWDay Savvitas is delighted to connect on #WBWDay with friends from: All-Party Parliamentary Group for Inclusive Entrepreneurship – Catalyst for Women Entrepreneurs – G7 Gender Working Group – Global Entrepreneurship Week – GEN UK – NatWest – OWIT International – OWIT UK – WEConnect International – WishKnish – Women in Leadership – Women & Enterprise All-Party Parliamentary Group – Women Impacting Public Policy – W20 – Quantum Leaps
URL:https://owituk.org/event/partner-event-savvitas-wbw-cop26-green-paper-update-actions
LOCATION:OWIT UK ZOOM VIRTUAL EVENT\, United Kingdom
CATEGORIES:OWIT UK,Savvitas,strategic partner
ATTACH;FMTTYPE=image/png:https://owituk.org/wp-content/uploads/2021/11/Screenshot-2021-11-05-at-14-24-29-Savvitas-WBW-COP26-Green-Paper-Update-Actions-e1636123125286.png
END:VEVENT
BEGIN:VEVENT
DTSTART;TZID=UTC:20211001T153000
DTEND;TZID=UTC:20211001T163000
DTSTAMP:20260422T230216
CREATED:20210927T182214Z
LAST-MODIFIED:20210927T182906Z
UID:2192-1633102200-1633105800@owituk.org
SUMMARY:OWIT UK- WEIFORWARD CO-HOSTED WTO PF21 Joint Working Session: Building resilience to bridge trade gaps through digital transformation
DESCRIPTION:Collaborative action from women business leaders to make a positive impact and deliver our united vision of a more sustainable world economy About this eventOctober 20\, 2021 10.00 and 15.00 BST Click here for the 10.00 event: World Business Women’s Day 2022 (10.00 BST) Tickets\, Thu\, Oct 20\, 2022 at 10:00 AM | Eventbrite Click here for the 15.00 event: World Business Women’s Day 2022 (15.00 BST ) Tickets\, Thu\, Oct 20\, 2022 at 3:00 PM | Eventbrite World Business Women’s Day 2022 10.00 BSTWomen and TechnologyHow women in business can leverage technology to make the most of its opportunitiesFrom AI to the dark web and everything in between…tech leaders\, business owners\, and women from all sectors\, nations\, cultures\, and backgrounds\, take part in this dynamic global event to explore women and technologyFrontline females in business and industry\, action orientated achievers – not another talking shopHighlighting innovation and opportunity to widen female participation in technology and contribute to the global enterprise ecosystemSharing best practice from nation to nationExchanging proven ideas to create shortcuts to tangible outcomes by flexing strategies from one nation to the nextTaking action to build more sustainable women-led businessesContributing to the global Savvitas BarometerZoom room discussions chaired by international leadersStimulating Speed Keynotes from high-profile global speakersEstablishing an enduring dialogue between women of the worldOutcomes shared throughout industry and government@SavvitasGlobal #WBWDay Savvitas is delighted to connect on #WBWDay with friends from: All-Party Parliamentary Group for Inclusive Entrepreneurship – Catalyst for Women Entrepreneurs – G7 Gender Working Group – Global Entrepreneurship Week – GEN UK – NatWest – OWIT International – OWIT UK – WEConnect International – WishKnish – Women in Leadership – Women & Enterprise All-Party Parliamentary Group – Women Impacting Public Policy – W20 – Quantum Leaps
URL:https://owituk.org/event/owit-uk-weiforward-co-hosted-wto-pf21-joint-working-session-building-resilience-to-bridge-trade-gaps-through-digital-transformation
CATEGORIES:Associate Organisation,OWIT UK,strategic partner
ATTACH;FMTTYPE=image/png:https://owituk.org/wp-content/uploads/2021/09/WTP-PF-OWIT-UK-WEIFORWARD-.png
END:VEVENT
BEGIN:VEVENT
DTSTART;TZID=UTC:20210922T140000
DTEND;TZID=UTC:20210922T150000
DTSTAMP:20260422T230216
CREATED:20210903T145022Z
LAST-MODIFIED:20210906T103108Z
UID:2157-1632319200-1632322800@owituk.org
SUMMARY:#OWITUK Webinars: Born Global on September 22\, 2021
DESCRIPTION:Collaborative action from women business leaders to make a positive impact and deliver our united vision of a more sustainable world economy About this eventOctober 20\, 2021 10.00 and 15.00 BST Click here for the 10.00 event: World Business Women’s Day 2022 (10.00 BST) Tickets\, Thu\, Oct 20\, 2022 at 10:00 AM | Eventbrite Click here for the 15.00 event: World Business Women’s Day 2022 (15.00 BST ) Tickets\, Thu\, Oct 20\, 2022 at 3:00 PM | Eventbrite World Business Women’s Day 2022 10.00 BSTWomen and TechnologyHow women in business can leverage technology to make the most of its opportunitiesFrom AI to the dark web and everything in between…tech leaders\, business owners\, and women from all sectors\, nations\, cultures\, and backgrounds\, take part in this dynamic global event to explore women and technologyFrontline females in business and industry\, action orientated achievers – not another talking shopHighlighting innovation and opportunity to widen female participation in technology and contribute to the global enterprise ecosystemSharing best practice from nation to nationExchanging proven ideas to create shortcuts to tangible outcomes by flexing strategies from one nation to the nextTaking action to build more sustainable women-led businessesContributing to the global Savvitas BarometerZoom room discussions chaired by international leadersStimulating Speed Keynotes from high-profile global speakersEstablishing an enduring dialogue between women of the worldOutcomes shared throughout industry and government@SavvitasGlobal #WBWDay Savvitas is delighted to connect on #WBWDay with friends from: All-Party Parliamentary Group for Inclusive Entrepreneurship – Catalyst for Women Entrepreneurs – G7 Gender Working Group – Global Entrepreneurship Week – GEN UK – NatWest – OWIT International – OWIT UK – WEConnect International – WishKnish – Women in Leadership – Women & Enterprise All-Party Parliamentary Group – Women Impacting Public Policy – W20 – Quantum Leaps
URL:https://owituk.org/event/owituk-webinars-born-global-on-september-22-2021
LOCATION:OWIT UK ZOOM VIRTUAL EVENT\, United Kingdom
CATEGORIES:OWIT UK,strategic partner
ATTACH;FMTTYPE=image/png:https://owituk.org/wp-content/uploads/2021/09/OWIT-UK-Born-Global-RoundTable-Invitation1.png
END:VEVENT
BEGIN:VEVENT
DTSTART;TZID=Europe/London:20210715T130000
DTEND;TZID=Europe/London:20210715T140000
DTSTAMP:20260422T230216
CREATED:20210622T214611Z
LAST-MODIFIED:20210712T112231Z
UID:2028-1626354000-1626357600@owituk.org
SUMMARY:OWIT UK: Removing Barriers to International Trade Finance
DESCRIPTION:Collaborative action from women business leaders to make a positive impact and deliver our united vision of a more sustainable world economy About this eventOctober 20\, 2021 10.00 and 15.00 BST Click here for the 10.00 event: World Business Women’s Day 2022 (10.00 BST) Tickets\, Thu\, Oct 20\, 2022 at 10:00 AM | Eventbrite Click here for the 15.00 event: World Business Women’s Day 2022 (15.00 BST ) Tickets\, Thu\, Oct 20\, 2022 at 3:00 PM | Eventbrite World Business Women’s Day 2022 10.00 BSTWomen and TechnologyHow women in business can leverage technology to make the most of its opportunitiesFrom AI to the dark web and everything in between…tech leaders\, business owners\, and women from all sectors\, nations\, cultures\, and backgrounds\, take part in this dynamic global event to explore women and technologyFrontline females in business and industry\, action orientated achievers – not another talking shopHighlighting innovation and opportunity to widen female participation in technology and contribute to the global enterprise ecosystemSharing best practice from nation to nationExchanging proven ideas to create shortcuts to tangible outcomes by flexing strategies from one nation to the nextTaking action to build more sustainable women-led businessesContributing to the global Savvitas BarometerZoom room discussions chaired by international leadersStimulating Speed Keynotes from high-profile global speakersEstablishing an enduring dialogue between women of the worldOutcomes shared throughout industry and government@SavvitasGlobal #WBWDay Savvitas is delighted to connect on #WBWDay with friends from: All-Party Parliamentary Group for Inclusive Entrepreneurship – Catalyst for Women Entrepreneurs – G7 Gender Working Group – Global Entrepreneurship Week – GEN UK – NatWest – OWIT International – OWIT UK – WEConnect International – WishKnish – Women in Leadership – Women & Enterprise All-Party Parliamentary Group – Women Impacting Public Policy – W20 – Quantum Leaps
URL:https://owituk.org/event/owit-uk-removing-barriers-to-international-trade-finance
LOCATION:OWIT UK ZOOM VIRTUAL EVENT\, United Kingdom
CATEGORIES:Associate Organisation,OWIT UK,Savvitas,strategic partner
ATTACH;FMTTYPE=image/png:https://owituk.org/wp-content/uploads/2021/06/Market-Accents-icons.png
END:VEVENT
BEGIN:VEVENT
DTSTART;VALUE=DATE:20210629
DTEND;VALUE=DATE:20210701
DTSTAMP:20260422T230216
CREATED:20210629T082349Z
LAST-MODIFIED:20210629T082424Z
UID:2134-1624924800-1625097599@owituk.org
SUMMARY:Partner Event: GTR UK 2021 Virtual
DESCRIPTION:Collaborative action from women business leaders to make a positive impact and deliver our united vision of a more sustainable world economy About this eventOctober 20\, 2021 10.00 and 15.00 BST Click here for the 10.00 event: World Business Women’s Day 2022 (10.00 BST) Tickets\, Thu\, Oct 20\, 2022 at 10:00 AM | Eventbrite Click here for the 15.00 event: World Business Women’s Day 2022 (15.00 BST ) Tickets\, Thu\, Oct 20\, 2022 at 3:00 PM | Eventbrite World Business Women’s Day 2022 10.00 BSTWomen and TechnologyHow women in business can leverage technology to make the most of its opportunitiesFrom AI to the dark web and everything in between…tech leaders\, business owners\, and women from all sectors\, nations\, cultures\, and backgrounds\, take part in this dynamic global event to explore women and technologyFrontline females in business and industry\, action orientated achievers – not another talking shopHighlighting innovation and opportunity to widen female participation in technology and contribute to the global enterprise ecosystemSharing best practice from nation to nationExchanging proven ideas to create shortcuts to tangible outcomes by flexing strategies from one nation to the nextTaking action to build more sustainable women-led businessesContributing to the global Savvitas BarometerZoom room discussions chaired by international leadersStimulating Speed Keynotes from high-profile global speakersEstablishing an enduring dialogue between women of the worldOutcomes shared throughout industry and government@SavvitasGlobal #WBWDay Savvitas is delighted to connect on #WBWDay with friends from: All-Party Parliamentary Group for Inclusive Entrepreneurship – Catalyst for Women Entrepreneurs – G7 Gender Working Group – Global Entrepreneurship Week – GEN UK – NatWest – OWIT International – OWIT UK – WEConnect International – WishKnish – Women in Leadership – Women & Enterprise All-Party Parliamentary Group – Women Impacting Public Policy – W20 – Quantum Leaps
URL:https://owituk.org/event/gtr-uk-2021-virtual
CATEGORIES:Media Partners,OWIT UK,strategic partner
ATTACH;FMTTYPE=image/jpeg:https://owituk.org/wp-content/uploads/2021/06/GTR-UK-2021_Virtual_600x300.jpg
END:VEVENT
BEGIN:VEVENT
DTSTART;TZID=Europe/London:20210623T143000
DTEND;TZID=Europe/London:20210623T163000
DTSTAMP:20260422T230216
CREATED:20210602T173438Z
LAST-MODIFIED:20210623T115102Z
UID:1906-1624458600-1624465800@owituk.org
SUMMARY:OWIT UK LAUNCH: INTERNATIONAL TRADE AND GENDER TO BOOST ECONOMIC PARTICIPATION AND EMPOWERMENT
DESCRIPTION:Collaborative action from women business leaders to make a positive impact and deliver our united vision of a more sustainable world economy About this eventOctober 20\, 2021 10.00 and 15.00 BST Click here for the 10.00 event: World Business Women’s Day 2022 (10.00 BST) Tickets\, Thu\, Oct 20\, 2022 at 10:00 AM | Eventbrite Click here for the 15.00 event: World Business Women’s Day 2022 (15.00 BST ) Tickets\, Thu\, Oct 20\, 2022 at 3:00 PM | Eventbrite World Business Women’s Day 2022 10.00 BSTWomen and TechnologyHow women in business can leverage technology to make the most of its opportunitiesFrom AI to the dark web and everything in between…tech leaders\, business owners\, and women from all sectors\, nations\, cultures\, and backgrounds\, take part in this dynamic global event to explore women and technologyFrontline females in business and industry\, action orientated achievers – not another talking shopHighlighting innovation and opportunity to widen female participation in technology and contribute to the global enterprise ecosystemSharing best practice from nation to nationExchanging proven ideas to create shortcuts to tangible outcomes by flexing strategies from one nation to the nextTaking action to build more sustainable women-led businessesContributing to the global Savvitas BarometerZoom room discussions chaired by international leadersStimulating Speed Keynotes from high-profile global speakersEstablishing an enduring dialogue between women of the worldOutcomes shared throughout industry and government@SavvitasGlobal #WBWDay Savvitas is delighted to connect on #WBWDay with friends from: All-Party Parliamentary Group for Inclusive Entrepreneurship – Catalyst for Women Entrepreneurs – G7 Gender Working Group – Global Entrepreneurship Week – GEN UK – NatWest – OWIT International – OWIT UK – WEConnect International – WishKnish – Women in Leadership – Women & Enterprise All-Party Parliamentary Group – Women Impacting Public Policy – W20 – Quantum Leaps
URL:https://owituk.org/event/owit-uk-launch-trade-and-gender-to-boost-economic-participation-and-economic-empowerment
LOCATION:OWIT UK ZOOM VIRTUAL EVENT\, United Kingdom
CATEGORIES:Associate Organisation,CBW,OWIT UK,Savvitas,strategic partner
ATTACH;FMTTYPE=image/png:https://owituk.org/wp-content/uploads/2021/06/UNITED-KINGDOM1.png
END:VEVENT
BEGIN:VEVENT
DTSTART;VALUE=DATE:20210608
DTEND;VALUE=DATE:20210609
DTSTAMP:20260422T230216
CREATED:20210527T171425Z
LAST-MODIFIED:20210527T173245Z
UID:1845-1623110400-1623196799@owituk.org
SUMMARY:Savvitas Global World Business Women Caucus - June 8 2021
DESCRIPTION:Collaborative action from women business leaders to make a positive impact and deliver our united vision of a more sustainable world economy About this eventOctober 20\, 2021 10.00 and 15.00 BST Click here for the 10.00 event: World Business Women’s Day 2022 (10.00 BST) Tickets\, Thu\, Oct 20\, 2022 at 10:00 AM | Eventbrite Click here for the 15.00 event: World Business Women’s Day 2022 (15.00 BST ) Tickets\, Thu\, Oct 20\, 2022 at 3:00 PM | Eventbrite World Business Women’s Day 2022 10.00 BSTWomen and TechnologyHow women in business can leverage technology to make the most of its opportunitiesFrom AI to the dark web and everything in between…tech leaders\, business owners\, and women from all sectors\, nations\, cultures\, and backgrounds\, take part in this dynamic global event to explore women and technologyFrontline females in business and industry\, action orientated achievers – not another talking shopHighlighting innovation and opportunity to widen female participation in technology and contribute to the global enterprise ecosystemSharing best practice from nation to nationExchanging proven ideas to create shortcuts to tangible outcomes by flexing strategies from one nation to the nextTaking action to build more sustainable women-led businessesContributing to the global Savvitas BarometerZoom room discussions chaired by international leadersStimulating Speed Keynotes from high-profile global speakersEstablishing an enduring dialogue between women of the worldOutcomes shared throughout industry and government@SavvitasGlobal #WBWDay Savvitas is delighted to connect on #WBWDay with friends from: All-Party Parliamentary Group for Inclusive Entrepreneurship – Catalyst for Women Entrepreneurs – G7 Gender Working Group – Global Entrepreneurship Week – GEN UK – NatWest – OWIT International – OWIT UK – WEConnect International – WishKnish – Women in Leadership – Women & Enterprise All-Party Parliamentary Group – Women Impacting Public Policy – W20 – Quantum Leaps
URL:https://owituk.org/event/savvitas-global-world-business-women-caucus-june-8-2021
CATEGORIES:Savvitas,strategic partner
ATTACH;FMTTYPE=image/jpeg:https://owituk.org/wp-content/uploads/2021/05/Savvitas-image-for-WBWDay-scaled.jpg
END:VEVENT
BEGIN:VEVENT
DTSTART;VALUE=DATE:20210519
DTEND;VALUE=DATE:20210521
DTSTAMP:20260422T230216
CREATED:20210322T112935Z
LAST-MODIFIED:20210509T073957Z
UID:125-1621382400-1621555199@owituk.org
SUMMARY:Commonwealth Women’s Entrepreneurship Summit 21
DESCRIPTION:Collaborative action from women business leaders to make a positive impact and deliver our united vision of a more sustainable world economy About this eventOctober 20\, 2021 10.00 and 15.00 BST Click here for the 10.00 event: World Business Women’s Day 2022 (10.00 BST) Tickets\, Thu\, Oct 20\, 2022 at 10:00 AM | Eventbrite Click here for the 15.00 event: World Business Women’s Day 2022 (15.00 BST ) Tickets\, Thu\, Oct 20\, 2022 at 3:00 PM | Eventbrite World Business Women’s Day 2022 10.00 BSTWomen and TechnologyHow women in business can leverage technology to make the most of its opportunitiesFrom AI to the dark web and everything in between…tech leaders\, business owners\, and women from all sectors\, nations\, cultures\, and backgrounds\, take part in this dynamic global event to explore women and technologyFrontline females in business and industry\, action orientated achievers – not another talking shopHighlighting innovation and opportunity to widen female participation in technology and contribute to the global enterprise ecosystemSharing best practice from nation to nationExchanging proven ideas to create shortcuts to tangible outcomes by flexing strategies from one nation to the nextTaking action to build more sustainable women-led businessesContributing to the global Savvitas BarometerZoom room discussions chaired by international leadersStimulating Speed Keynotes from high-profile global speakersEstablishing an enduring dialogue between women of the worldOutcomes shared throughout industry and government@SavvitasGlobal #WBWDay Savvitas is delighted to connect on #WBWDay with friends from: All-Party Parliamentary Group for Inclusive Entrepreneurship – Catalyst for Women Entrepreneurs – G7 Gender Working Group – Global Entrepreneurship Week – GEN UK – NatWest – OWIT International – OWIT UK – WEConnect International – WishKnish – Women in Leadership – Women & Enterprise All-Party Parliamentary Group – Women Impacting Public Policy – W20 – Quantum Leaps
URL:https://owituk.org/event/test
CATEGORIES:Associate Organisation,CBW
ATTACH;FMTTYPE=image/png:https://owituk.org/wp-content/uploads/2021/03/Screenshot_2021-05-09-Commonwealth-Womens-Entrepreneurship-Summit-21.png
END:VEVENT
END:VCALENDAR