BEGIN:VCALENDAR
VERSION:2.0
PRODID:-//OWIT UK - ECPv6.15.20//NONSGML v1.0//EN
CALSCALE:GREGORIAN
METHOD:PUBLISH
X-WR-CALNAME:OWIT UK
X-ORIGINAL-URL:https://owituk.org
X-WR-CALDESC:Events for OWIT UK
REFRESH-INTERVAL;VALUE=DURATION:PT1H
X-Robots-Tag:noindex
X-PUBLISHED-TTL:PT1H
BEGIN:VTIMEZONE
TZID:UTC
BEGIN:STANDARD
TZOFFSETFROM:+0000
TZOFFSETTO:+0000
TZNAME:UTC
DTSTART:20200101T000000
END:STANDARD
END:VTIMEZONE
BEGIN:VEVENT
DTSTART;VALUE=DATE:20210519
DTEND;VALUE=DATE:20210521
DTSTAMP:20260423T222243
CREATED:20210322T112935Z
LAST-MODIFIED:20210509T073957Z
UID:125-1621382400-1621555199@owituk.org
SUMMARY:Commonwealth Women’s Entrepreneurship Summit 21
DESCRIPTION:Join the first Commonwealth Women’s Entrepreneurship Summit – a two day conference and a lot more besides. The Summit and our feature activities will be coordinated here on the WorldLabs platform where host organisations CBWN\, GEN UK and Women In Innovation have established communities which connect with the global innovation ecosystem. To take part\, sign up and create your profile. All sessions\, resources and networking tools will be available to members of the Summit communities.
URL:https://owituk.org/event/test
CATEGORIES:Associate Organisation,CBW
ATTACH;FMTTYPE=image/png:https://owituk.org/wp-content/uploads/2021/03/Screenshot_2021-05-09-Commonwealth-Womens-Entrepreneurship-Summit-21.png
END:VEVENT
END:VCALENDAR